BEGIN:VCALENDAR
VERSION:2.0
PRODID:SchoolNow
CALSCALE:GREGORIAN
BEGIN:VEVENT
UID:e42058e6-7dab-11f0-904f-0e7415f6a873
DTSTAMP:20251216T154527Z
SUMMARY:Board Meeting- Model PLC Recognition for IV at 6:45pm
URL;VALUE=URI:https://www.gusd.us/islavista/calendar/8524290/board-meeting-
 model-plc-recognition-for-iv-at-6-45pm
DTSTART:20250821T013000Z
DTEND:20250821T020000Z
END:VEVENT
END:VCALENDAR
