BEGIN:VCALENDAR
VERSION:2.0
PRODID:SchoolNow
CALSCALE:GREGORIAN
BEGIN:VEVENT
UID:e42059e0-7dab-11f0-9b30-0e7415f6a873
DTSTAMP:20251216T154527Z
SUMMARY:Multi-Cultural Welcome Back Picnic
URL;VALUE=URI:https://www.gusd.us/islavista/calendar/8524291/multi-cultural
 -welcome-back-picnic
DTSTART:20250829T000000Z
DTEND:20250829T020000Z
END:VEVENT
END:VCALENDAR
