BEGIN:VCALENDAR
VERSION:2.0
PRODID:SchoolNow
CALSCALE:GREGORIAN
BEGIN:VEVENT
UID:e4205b5c-7dab-11f0-9895-0e7415f6a873
DTSTAMP:20251216T154527Z
SUMMARY:Meet the Teacher
URL;VALUE=URI:https://www.gusd.us/islavista/calendar/8524292/meet-the-teach
 er
DTSTART:20250819T210000Z
DTEND:20250819T220000Z
END:VEVENT
END:VCALENDAR
