BEGIN:VCALENDAR
VERSION:2.0
PRODID:SchoolNow
CALSCALE:GREGORIAN
BEGIN:VEVENT
UID:dd2e1860-7edd-11f0-a3f1-0a58a9feac02
DTSTAMP:20251216T154527Z
SUMMARY:No School -Veterans' Day
URL;VALUE=URI:https://www.gusd.us/islavista/calendar/8530513/no-school-vete
 rans-day
DTSTART:20251111T160000Z
DTEND:20251111T230000Z
END:VEVENT
END:VCALENDAR
