BEGIN:VCALENDAR
VERSION:2.0
PRODID:SchoolNow
CALSCALE:GREGORIAN
BEGIN:VEVENT
UID:dd2e1d56-7edd-11f0-9eb1-0a58a9feac02
DTSTAMP:20251216T154527Z
SUMMARY:Board Meeting
URL;VALUE=URI:https://www.gusd.us/islavista/calendar/8530515/board-meeting
DTSTART:20260918T010000Z
DTEND:20260918T040000Z
END:VEVENT
END:VCALENDAR
