BEGIN:VCALENDAR
VERSION:2.0
PRODID:SchoolNow
CALSCALE:GREGORIAN
BEGIN:VEVENT
UID:cf64eb04-7f10-11f0-bfbf-0ed26d5ba7af
DTSTAMP:20251216T154527Z
SUMMARY:Parent/Teacher Conferences
URL;VALUE=URI:https://www.gusd.us/islavista/calendar/8531213/parent-teacher
 -conferences
DTSTART:20260323T190000Z
DTEND:20260323T220000Z
END:VEVENT
END:VCALENDAR
