BEGIN:VCALENDAR
VERSION:2.0
PRODID:SchoolNow
CALSCALE:GREGORIAN
BEGIN:VEVENT
UID:cf6519da-7f10-11f0-a7e5-0ed26d5ba7af
DTSTAMP:20251216T154527Z
SUMMARY:Parent/Teacher Conferences
URL;VALUE=URI:https://www.gusd.us/islavista/calendar/8531215/parent-teacher
 -conferences
DTSTART:20260325T190000Z
DTEND:20260325T220000Z
END:VEVENT
END:VCALENDAR
