BEGIN:VCALENDAR
VERSION:2.0
PRODID:SchoolNow
CALSCALE:GREGORIAN
BEGIN:VEVENT
UID:c5709b26-7fdc-11f0-9754-0a58a9feac02
DTSTAMP:20251216T154527Z
SUMMARY:Lemon Run
URL;VALUE=URI:https://www.gusd.us/islavista/calendar/8534797/lemon-run
DTSTART:20250921T143000Z
DTEND:20250921T180000Z
END:VEVENT
END:VCALENDAR
