BEGIN:VCALENDAR
VERSION:2.0
PRODID:SchoolNow
CALSCALE:GREGORIAN
BEGIN:VEVENT
UID:a49a07e6-8240-11f0-8144-02a2e9e10733
DTSTAMP:20251216T154527Z
SUMMARY:Drama Club MPR & Rooms 5\, 13 and 15
URL;VALUE=URI:https://www.gusd.us/islavista/calendar/8544018/drama-club-mpr
 -rooms-5-13-and-15
DTSTART:20250917T220000Z
DTEND:20250918T020000Z
END:VEVENT
END:VCALENDAR
