BEGIN:VCALENDAR
VERSION:2.0
PRODID:SchoolNow
CALSCALE:GREGORIAN
BEGIN:VEVENT
UID:a49a2776-8240-11f0-94fe-02a2e9e10733
DTSTAMP:20251216T154527Z
SUMMARY:Picture Day
URL;VALUE=URI:https://www.gusd.us/islavista/calendar/8544019/picture-day
DTSTART:20250916T150000Z
DTEND:20250916T210000Z
END:VEVENT
END:VCALENDAR
