BEGIN:VCALENDAR
VERSION:2.0
PRODID:SchoolNow
CALSCALE:GREGORIAN
BEGIN:VEVENT
UID:73d16628-850a-11f0-b872-0a58a9feac02
DTSTAMP:20251216T154527Z
SUMMARY:PTA 1st General Meeting
LOCATION:Isla Vista Elementary School\, 6875 El Colegio Rd\, Goleta\, CA 93
 117\, USA
URL;VALUE=URI:https://www.gusd.us/islavista/calendar/8558810/pta-1st-genera
 l-meeting
DTSTART:20250905T000000Z
DTEND:20250905T003000Z
END:VEVENT
END:VCALENDAR
