BEGIN:VCALENDAR
VERSION:2.0
PRODID:SchoolNow
CALSCALE:GREGORIAN
BEGIN:VEVENT
UID:73d16be6-850a-11f0-88c6-0a58a9feac02
DTSTAMP:20251216T154527Z
SUMMARY:Isla Vista Back to School Night
URL;VALUE=URI:https://www.gusd.us/islavista/calendar/8558812/isla-vista-bac
 k-to-school-night
DTSTART:20260906T003000Z
DTEND:20260906T020000Z
END:VEVENT
END:VCALENDAR
