BEGIN:VCALENDAR
VERSION:2.0
PRODID:SchoolNow
CALSCALE:GREGORIAN
BEGIN:VEVENT
UID:577570a2-86a2-11f0-9f1e-0a58a9feac02
DTSTAMP:20251216T154527Z
SUMMARY:PTA Kyles Kitchen Fund Raiser
URL;VALUE=URI:https://www.gusd.us/islavista/calendar/8564875/pta-kyles-kitc
 hen-fund-raiser
DTSTART:20250924T210000Z
DTEND:20250925T040000Z
END:VEVENT
END:VCALENDAR
