BEGIN:VCALENDAR
VERSION:2.0
PRODID:SchoolNow
CALSCALE:GREGORIAN
BEGIN:VEVENT
UID:5775769c-86a2-11f0-9b8f-0a58a9feac02
DTSTAMP:20251216T154527Z
SUMMARY:Family Movie Night!
URL;VALUE=URI:https://www.gusd.us/islavista/calendar/8564879/family-movie-n
 ight
DTSTART:20251206T020000Z
DTEND:20251206T040000Z
END:VEVENT
END:VCALENDAR
