BEGIN:VCALENDAR
VERSION:2.0
PRODID:SchoolNow
CALSCALE:GREGORIAN
BEGIN:VEVENT
UID:5775778c-86a2-11f0-a723-0a58a9feac02
DTSTAMP:20251216T154527Z
SUMMARY:Family Movie Night!
URL;VALUE=URI:https://www.gusd.us/islavista/calendar/8564880/family-movie-n
 ight
DTSTART:20260106T020000Z
DTEND:20260106T040000Z
END:VEVENT
END:VCALENDAR
