BEGIN:VCALENDAR
VERSION:2.0
PRODID:SchoolNow
CALSCALE:GREGORIAN
BEGIN:VEVENT
UID:57757962-86a2-11f0-97bd-0a58a9feac02
DTSTAMP:20251216T154527Z
SUMMARY:Family Movie Night!
URL;VALUE=URI:https://www.gusd.us/islavista/calendar/8564882/family-movie-n
 ight
DTSTART:20260306T020000Z
DTEND:20260306T040000Z
END:VEVENT
END:VCALENDAR
