BEGIN:VCALENDAR
VERSION:2.0
PRODID:SchoolNow
CALSCALE:GREGORIAN
BEGIN:VEVENT
UID:57757ba6-86a2-11f0-8d8b-0a58a9feac02
DTSTAMP:20251216T154527Z
SUMMARY:Family Movie Night!
URL;VALUE=URI:https://www.gusd.us/islavista/calendar/8564884/family-movie-n
 ight
DTSTART:20260506T010000Z
DTEND:20260506T030000Z
END:VEVENT
END:VCALENDAR
