BEGIN:VCALENDAR
VERSION:2.0
PRODID:SchoolNow
CALSCALE:GREGORIAN
BEGIN:VEVENT
UID:57757c82-86a2-11f0-819b-0a58a9feac02
DTSTAMP:20251216T154527Z
SUMMARY:Family Movie Night!
URL;VALUE=URI:https://www.gusd.us/islavista/calendar/8564885/family-movie-n
 ight
DTSTART:20260606T010000Z
DTEND:20260606T030000Z
END:VEVENT
END:VCALENDAR
