BEGIN:VCALENDAR
VERSION:2.0
PRODID:SchoolNow
CALSCALE:GREGORIAN
BEGIN:VEVENT
UID:5337e8e2-8708-11f0-ac2e-0a58a9feac02
DTSTAMP:20251216T154527Z
SUMMARY:Viva el Arte!
LOCATION:Isla Vista Elementary School\, 6875 El Colegio Rd\, Goleta\, CA 93
 117\, USA
URL;VALUE=URI:https://www.gusd.us/islavista/calendar/8566298/viva-el-arte
DTSTART:20250920T020000Z
DTEND:20250920T033000Z
END:VEVENT
END:VCALENDAR
