BEGIN:VCALENDAR
VERSION:2.0
PRODID:SchoolNow
CALSCALE:GREGORIAN
BEGIN:VEVENT
UID:53380ee4-8708-11f0-b0b7-0a58a9feac02
DTSTAMP:20251216T154527Z
SUMMARY:Goleta Valley Library Book Van Visit!
LOCATION:Isla Vista Elementary School\, 6875 El Colegio Rd\, Goleta\, CA 93
 117\, USA
URL;VALUE=URI:https://www.gusd.us/islavista/calendar/8566301/goleta-valley-
 library-book-van-visit
DTSTART:20250919T200000Z
DTEND:20250919T233000Z
END:VEVENT
END:VCALENDAR
