BEGIN:VCALENDAR
VERSION:2.0
PRODID:SchoolNow
CALSCALE:GREGORIAN
BEGIN:VEVENT
UID:533811c8-8708-11f0-8634-0a58a9feac02
DTSTAMP:20251216T154527Z
SUMMARY:Goleta Valley Library Book Van Visit!
LOCATION:Isla Vista Elementary School\, 6875 El Colegio Rd\, Goleta\, CA 93
 117\, USA
URL;VALUE=URI:https://www.gusd.us/islavista/calendar/8566304/goleta-valley-
 library-book-van-visit
DTSTART:20251031T200000Z
DTEND:20251031T233000Z
END:VEVENT
END:VCALENDAR
