BEGIN:VCALENDAR
VERSION:2.0
PRODID:SchoolNow
CALSCALE:GREGORIAN
BEGIN:VEVENT
UID:53381484-8708-11f0-a68c-0a58a9feac02
DTSTAMP:20251216T154527Z
SUMMARY:Goleta Valley Library Book Van Visit!
LOCATION:Isla Vista Elementary School\, 6875 El Colegio Rd\, Goleta\, CA 93
 117\, USA
URL;VALUE=URI:https://www.gusd.us/islavista/calendar/8566307/goleta-valley-
 library-book-van-visit
DTSTART:20251212T210000Z
DTEND:20251213T003000Z
END:VEVENT
END:VCALENDAR
