BEGIN:VCALENDAR
VERSION:2.0
PRODID:SchoolNow
CALSCALE:GREGORIAN
BEGIN:VEVENT
UID:4f2d1116-87a1-11f0-9a16-0afff5a0178f
DTSTAMP:20251216T154527Z
SUMMARY:Parent-Teacher Conferences
URL;VALUE=URI:https://www.gusd.us/islavista/calendar/8568697/parent-teacher
 -conferences
DTSTART:20251117T200000Z
DTEND:20251117T230000Z
END:VEVENT
END:VCALENDAR
