BEGIN:VCALENDAR
VERSION:2.0
PRODID:SchoolNow
CALSCALE:GREGORIAN
BEGIN:VEVENT
UID:4f2d17d8-87a1-11f0-8852-0afff5a0178f
DTSTAMP:20251216T154527Z
SUMMARY:Parent-Teacher Conferences
URL;VALUE=URI:https://www.gusd.us/islavista/calendar/8568701/parent-teacher
 -conferences
DTSTART:20251121T200000Z
DTEND:20251121T230000Z
END:VEVENT
END:VCALENDAR
