BEGIN:VCALENDAR
VERSION:2.0
PRODID:SchoolNow
CALSCALE:GREGORIAN
BEGIN:VEVENT
UID:54ef9a46-8eb9-11f0-886b-0a58a9feac02
DTSTAMP:20260422T162016Z
SUMMARY:Kona Ice
URL;VALUE=URI:https://www.gusd.us/islavista/calendar/8607374/kona-ice
DTSTART:20260116T225000Z
DTEND:20260116T234500Z
END:VEVENT
END:VCALENDAR
