BEGIN:VCALENDAR
VERSION:2.0
PRODID:SchoolNow
CALSCALE:GREGORIAN
BEGIN:VEVENT
UID:54ef9c30-8eb9-11f0-a43f-0a58a9feac02
DTSTAMP:20260422T162016Z
SUMMARY:Kona Ice
URL;VALUE=URI:https://www.gusd.us/islavista/calendar/8607376/kona-ice
DTSTART:20260313T215000Z
DTEND:20260313T224500Z
END:VEVENT
END:VCALENDAR
