BEGIN:VCALENDAR
VERSION:2.0
PRODID:SchoolNow
CALSCALE:GREGORIAN
BEGIN:VEVENT
UID:54ef9da2-8eb9-11f0-8de1-0a58a9feac02
DTSTAMP:20260423T042513Z
SUMMARY:Kona Ice
URL;VALUE=URI:https://www.gusd.us/islavista/calendar/8607377/kona-ice
DTSTART:20260410T215000Z
DTEND:20260410T224500Z
END:VEVENT
END:VCALENDAR
