BEGIN:VCALENDAR
VERSION:2.0
PRODID:SchoolNow
CALSCALE:GREGORIAN
BEGIN:VEVENT
UID:54ef9ea6-8eb9-11f0-b0db-0a58a9feac02
DTSTAMP:20260423T042513Z
SUMMARY:Kona Ice
URL;VALUE=URI:https://www.gusd.us/islavista/calendar/8607378/kona-ice
DTSTART:20260508T215000Z
DTEND:20260508T224500Z
END:VEVENT
END:VCALENDAR
