BEGIN:VCALENDAR
VERSION:2.0
PRODID:SchoolNow
CALSCALE:GREGORIAN
BEGIN:VEVENT
UID:668c43e8-9928-11f0-aaba-023b0b3a2e51
DTSTAMP:20251216T154527Z
SUMMARY:Fall Carnival
URL;VALUE=URI:https://www.gusd.us/islavista/calendar/8658842/fall-carnival
DTSTART:20251024T233000Z
DTEND:20251025T013000Z
END:VEVENT
END:VCALENDAR
