BEGIN:VCALENDAR
VERSION:2.0
PRODID:SchoolNow
CALSCALE:GREGORIAN
BEGIN:VEVENT
UID:668c62ec-9928-11f0-b817-023b0b3a2e51
DTSTAMP:20251216T154527Z
SUMMARY:6th Grade Rummage Sale!
LOCATION:Isla Vista Elementary School\, 6875 El Colegio Rd\, Goleta\, CA 93
 117\, USA
URL;VALUE=URI:https://www.gusd.us/islavista/calendar/8658843/6th-grade-rumm
 age-sale
DTSTART:20251018T153000Z
DTEND:20251018T200000Z
END:VEVENT
END:VCALENDAR
