BEGIN:VCALENDAR
VERSION:2.0
PRODID:SchoolNow
CALSCALE:GREGORIAN
BEGIN:VEVENT
UID:edd9c3de-a251-11f0-a992-0a58a9feac02
DTSTAMP:20251216T154527Z
SUMMARY:Campus Beautification Garden Party
URL;VALUE=URI:https://www.gusd.us/islavista/calendar/8697607/campus-beautif
 ication-garden-party
DTSTART:20251011T154500Z
DTEND:20251011T174500Z
END:VEVENT
END:VCALENDAR
