BEGIN:VCALENDAR
VERSION:2.0
PRODID:SchoolNow
CALSCALE:GREGORIAN
BEGIN:VEVENT
UID:a6e469c2-a7e5-11f0-9b99-0a58a9feac02
DTSTAMP:20251216T154527Z
SUMMARY:Firehouse Safety/ La estación de bomberos para tercer grado Seguri
 dad en la estación de bomberos: 8:30 a 9:15 y 9:15 a 10:00 (probablemente
  reprogramado si llueve)
URL;VALUE=URI:https://www.gusd.us/islavista/calendar/8717797/firehouse-safe
 ty-la-estacion-de-bomberos-para-tercer-grado-seguridad-en-la-estacion-de-b
 omberos-8-30-a-9-15-y-9-15-a-10-00-probablemente-reprogramado-si-llueve
DTSTART:20251016T161500Z
DTEND:20251016T174500Z
END:VEVENT
END:VCALENDAR
