BEGIN:VCALENDAR
VERSION:2.0
PRODID:SchoolNow
CALSCALE:GREGORIAN
BEGIN:VEVENT
UID:a008fda4-a87e-11f0-919c-022b3b5fcc43
DTSTAMP:20251216T154527Z
SUMMARY:Practice Emergency Drill- District-Wide Evacuation "Great Shake Out
 "
URL;VALUE=URI:https://www.gusd.us/islavista/calendar/8719913/practice-emerg
 ency-drill-district-wide-evacuation-great-shake-out
DTSTART:20251013T154500Z
DTEND:20251013T164500Z
END:VEVENT
END:VCALENDAR
