BEGIN:VCALENDAR
VERSION:2.0
PRODID:SchoolNow
CALSCALE:GREGORIAN
BEGIN:VEVENT
UID:4d6a8e80-b2f3-11f0-b57c-0a58a9feac02
DTSTAMP:20251216T154527Z
SUMMARY:Halloween parade begins at 8:35
URL;VALUE=URI:https://www.gusd.us/islavista/calendar/8752420/halloween-para
 de-begins-at-8-35
DTSTART:20251031T151500Z
DTEND:20251031T161500Z
END:VEVENT
END:VCALENDAR
