BEGIN:VCALENDAR
VERSION:2.0
PRODID:SchoolNow
CALSCALE:GREGORIAN
BEGIN:VEVENT
UID:26f44bea-b458-11f0-a8e4-0afffcf054ab
DTSTAMP:20251216T154527Z
SUMMARY:IV Campus Tour for Perspective Parents- Note Time change
URL;VALUE=URI:https://www.gusd.us/islavista/calendar/8757945/iv-campus-tour
 -for-perspective-parents-note-time-change
DTSTART:20251209T200000Z
DTEND:20251209T210000Z
END:VEVENT
END:VCALENDAR
