BEGIN:VCALENDAR
VERSION:2.0
PRODID:SchoolNow
CALSCALE:GREGORIAN
BEGIN:VEVENT
UID:26f44f00-b458-11f0-b6c8-0afffcf054ab
DTSTAMP:20251216T154527Z
SUMMARY:No School! Spring Break
URL;VALUE=URI:https://www.gusd.us/islavista/calendar/8757946/no-school-spri
 ng-break
DTSTART:20260327T140000Z
DTEND:20260328T000000Z
END:VEVENT
END:VCALENDAR
