BEGIN:VCALENDAR
VERSION:2.0
PRODID:SchoolNow
CALSCALE:GREGORIAN
BEGIN:VEVENT
UID:0e110826-b9de-11f0-b981-0a58a9feac02
DTSTAMP:20260422T162015Z
SUMMARY:Chaucer's Fundraiser
LOCATION:Chaucer's Books\, 3321 State St\, Santa Barbara\, CA 93105\, USA
URL;VALUE=URI:https://www.gusd.us/islavista/calendar/8777708/chaucers-fundr
 aiser
DTSTART:20260122T010000Z
DTEND:20260122T030000Z
END:VEVENT
END:VCALENDAR
