BEGIN:VCALENDAR
VERSION:2.0
PRODID:SchoolNow
CALSCALE:GREGORIAN
BEGIN:VEVENT
UID:8bb913b6-baa8-11f0-a674-0e3ece664e7b
DTSTAMP:20260422T162016Z
SUMMARY:H2O\, Where Did You Go Assembly
URL;VALUE=URI:https://www.gusd.us/islavista/calendar/8780178/h2o-where-did-
 you-go-assembly
DTSTART:20260127T210000Z
DTEND:20260127T224500Z
END:VEVENT
END:VCALENDAR
