BEGIN:VCALENDAR
VERSION:2.0
PRODID:SchoolNow
CALSCALE:GREGORIAN
BEGIN:VEVENT
UID:b28938d6-bdb4-11f0-871d-0a58a9feac02
DTSTAMP:20251216T154527Z
SUMMARY:Canceled—-Coffee & Conchas with Ms Corral: through Tiered Interve
 ntions\, MTSS\, PBIS\, and Guiding Coalition
URL;VALUE=URI:https://www.gusd.us/islavista/calendar/8786470/canceled-coffe
 e-conchas-with-ms-corral-through-tiered-interventions-mtss-pbis-and-guidin
 g-coalition
DTSTART:20251114T162000Z
DTEND:20251114T170000Z
END:VEVENT
END:VCALENDAR
