BEGIN:VCALENDAR
VERSION:2.0
PRODID:SchoolNow
CALSCALE:GREGORIAN
BEGIN:VEVENT
UID:49daa16e-be9d-11f0-9fe8-02651df1e32d
DTSTAMP:20260422T162016Z
SUMMARY:BoxTales Performance!
URL;VALUE=URI:https://www.gusd.us/islavista/calendar/8788618/boxtales-perfo
 rmance
DTSTART:20260210T210000Z
DTEND:20260210T224000Z
END:VEVENT
END:VCALENDAR
