BEGIN:VCALENDAR
VERSION:2.0
PRODID:SchoolNow
CALSCALE:GREGORIAN
BEGIN:VEVENT
UID:89953d3e-c0e4-11f0-bfb1-0afff8cdefe5
DTSTAMP:20251216T154527Z
SUMMARY:Helmet Distribution- Purchase your helmet $12
URL;VALUE=URI:https://www.gusd.us/islavista/calendar/8794341/helmet-distrib
 ution-purchase-your-helmet-12
DTSTART:20260205T154500Z
DTEND:20260205T161500Z
END:VEVENT
END:VCALENDAR
