BEGIN:VCALENDAR
VERSION:2.0
PRODID:SchoolNow
CALSCALE:GREGORIAN
BEGIN:VEVENT
UID:8995413a-c0e4-11f0-b579-0afff8cdefe5
DTSTAMP:20251216T154527Z
SUMMARY:Bike to School Day
URL;VALUE=URI:https://www.gusd.us/islavista/calendar/8794342/bike-to-school
 -day
DTSTART:20260205T153000Z
DTEND:20260205T161500Z
END:VEVENT
END:VCALENDAR
