BEGIN:VCALENDAR
VERSION:2.0
PRODID:SchoolNow
CALSCALE:GREGORIAN
BEGIN:VEVENT
UID:899543d8-c0e4-11f0-b682-0afff8cdefe5
DTSTAMP:20251216T154527Z
SUMMARY:Coffee and Conchas with Principal Corral
URL;VALUE=URI:https://www.gusd.us/islavista/calendar/8794343/coffee-and-con
 chas-with-principal-corral
DTSTART:20260206T160000Z
DTEND:20260206T170000Z
END:VEVENT
END:VCALENDAR
