BEGIN:VCALENDAR
VERSION:2.0
PRODID:SchoolNow
CALSCALE:GREGORIAN
BEGIN:VEVENT
UID:8995450e-c0e4-11f0-b2c4-0afff8cdefe5
DTSTAMP:20251216T154527Z
SUMMARY:School Play
URL;VALUE=URI:https://www.gusd.us/islavista/calendar/8794344/school-play
DTSTART:20260206T230000Z
DTEND:20260207T050000Z
END:VEVENT
END:VCALENDAR
