BEGIN:VCALENDAR
VERSION:2.0
PRODID:SchoolNow
CALSCALE:GREGORIAN
BEGIN:VEVENT
UID:899547ca-c0e4-11f0-bed4-0afff8cdefe5
DTSTAMP:20251216T154527Z
SUMMARY:Deckers Sales- Fundraiser
URL;VALUE=URI:https://www.gusd.us/islavista/calendar/8794346/deckers-sales-
 fundraiser
DTSTART:20251114T230000Z
DTEND:20251115T010000Z
END:VEVENT
END:VCALENDAR
