BEGIN:VCALENDAR
VERSION:2.0
PRODID:SchoolNow
CALSCALE:GREGORIAN
BEGIN:VEVENT
UID:899548c4-c0e4-11f0-bc1a-0afff8cdefe5
DTSTAMP:20251216T154527Z
SUMMARY:Bike Education Week 2/9-2/20/2025
URL;VALUE=URI:https://www.gusd.us/islavista/calendar/8794347/bike-education
 -week-2-9-2-20-2025
DTSTART:20260209T153000Z
DTEND:20260209T163000Z
END:VEVENT
END:VCALENDAR
