BEGIN:VCALENDAR
VERSION:2.0
PRODID:SchoolNow
CALSCALE:GREGORIAN
BEGIN:VEVENT
UID:1388df5c-c557-11f0-9fa6-0a58a9feac02
DTSTAMP:20260422T162016Z
SUMMARY:Bike to School by MOVE Santa Barbara County!
URL;VALUE=URI:https://www.gusd.us/islavista/calendar/8803651/bike-to-school
 -by-move-santa-barbara-county
DTSTART:20260205T154500Z
DTEND:20260205T161500Z
END:VEVENT
END:VCALENDAR
