BEGIN:VCALENDAR
VERSION:2.0
PRODID:SchoolNow
CALSCALE:GREGORIAN
BEGIN:VEVENT
UID:1388e466-c557-11f0-89f0-0a58a9feac02
DTSTAMP:20260422T162016Z
SUMMARY:Bike to School by MOVE Santa Barbara County!
URL;VALUE=URI:https://www.gusd.us/islavista/calendar/8803653/bike-to-school
 -by-move-santa-barbara-county
DTSTART:20260206T154500Z
DTEND:20260206T161500Z
END:VEVENT
END:VCALENDAR
