BEGIN:VCALENDAR
VERSION:2.0
PRODID:SchoolNow
CALSCALE:GREGORIAN
BEGIN:VEVENT
UID:1f82a408-c90f-11f0-a7d5-0a58a9feac02
DTSTAMP:20251216T154527Z
SUMMARY:IV Convivio
URL;VALUE=URI:https://www.gusd.us/islavista/calendar/8808789/iv-convivio
DTSTART:20251213T013000Z
DTEND:20251213T030000Z
END:VEVENT
END:VCALENDAR
