BEGIN:VCALENDAR
VERSION:2.0
PRODID:SchoolNow
CALSCALE:GREGORIAN
BEGIN:VEVENT
UID:d399031a-cf3b-11f0-a14f-0a58a9feac02
DTSTAMP:20251216T154527Z
SUMMARY:ELAC #2
URL;VALUE=URI:https://www.gusd.us/islavista/calendar/8815248/elac-2
DTSTART:20251204T010000Z
DTEND:20251204T020000Z
END:VEVENT
END:VCALENDAR
